BEGIN:VCALENDAR
VERSION:2.0
PRODID:-//Illiana Pullers Association - Tractor Pulling Association Illinois Indiana - ECPv6.1.3//NONSGML v1.0//EN
CALSCALE:GREGORIAN
METHOD:PUBLISH
X-WR-CALNAME:Illiana Pullers Association - Tractor Pulling Association Illinois Indiana
X-ORIGINAL-URL:https://www.illianapullers.com
X-WR-CALDESC:Events for Illiana Pullers Association - Tractor Pulling Association Illinois Indiana
REFRESH-INTERVAL;VALUE=DURATION:PT1H
X-Robots-Tag:noindex
X-PUBLISHED-TTL:PT1H
BEGIN:VTIMEZONE
TZID:America/Chicago
BEGIN:DAYLIGHT
TZOFFSETFROM:-0600
TZOFFSETTO:-0500
TZNAME:CDT
DTSTART:20190310T080000
END:DAYLIGHT
BEGIN:STANDARD
TZOFFSETFROM:-0500
TZOFFSETTO:-0600
TZNAME:CST
DTSTART:20191103T070000
END:STANDARD
END:VTIMEZONE
BEGIN:VEVENT
DTSTART;TZID=America/Chicago:20190710T180000
DTEND;TZID=America/Chicago:20190710T220000
DTSTAMP:20260424T013307
CREATED:20190707T191003Z
LAST-MODIFIED:20190811T153400Z
UID:12593-1562781600-1562796000@www.illianapullers.com
SUMMARY:Fisher\, IL
DESCRIPTION:1st Wade Rueck Roberts\, IL \n2nd Eddie Heiderick Danville\, IL \n3rd Charlie Myerscough Seymour\, IL \n4hTom Petersake Westville\, IL \n5thTyson Weckel Urbana\, IL \n6th Jason Kirby Farmer City\, IL \n7th Brad Clemmons Champaign\, IL \n8th Melisa Plotner Moore Thawville\, IL \n9th Jesse Bauer Rankin\, IL \n10th Robbie Obenland Danville\, IL \n \n \n\n \n\n \n\n\n 
URL:https://www.illianapullers.com/event/fisher-il/
LOCATION:Fisher\, IL\, United States
END:VEVENT
BEGIN:VEVENT
DTSTART;TZID=America/Chicago:20190710T183000
DTEND;TZID=America/Chicago:20190710T223000
DTSTAMP:20260424T013307
CREATED:20190707T191150Z
LAST-MODIFIED:20190723T232419Z
UID:12596-1562783400-1562797800@www.illianapullers.com
SUMMARY:Troy\, MO
DESCRIPTION:Dir: Steve Stucky. Flaggers: Steve\, Dallas\, Bill P.\nLimited Mini Rod
URL:https://www.illianapullers.com/event/troy-mo/
LOCATION:Troy\, IL\, United States
END:VEVENT
END:VCALENDAR