BEGIN:VCALENDAR
VERSION:2.0
PRODID:-//Illiana Pullers Association - Tractor Pulling Association Illinois Indiana - ECPv6.1.3//NONSGML v1.0//EN
CALSCALE:GREGORIAN
METHOD:PUBLISH
X-ORIGINAL-URL:https://www.illianapullers.com
X-WR-CALDESC:Events for Illiana Pullers Association - Tractor Pulling Association Illinois Indiana
REFRESH-INTERVAL;VALUE=DURATION:PT1H
X-Robots-Tag:noindex
X-PUBLISHED-TTL:PT1H
BEGIN:VTIMEZONE
TZID:America/Chicago
BEGIN:DAYLIGHT
TZOFFSETFROM:-0600
TZOFFSETTO:-0500
TZNAME:CDT
DTSTART:20190310T080000
END:DAYLIGHT
BEGIN:STANDARD
TZOFFSETFROM:-0500
TZOFFSETTO:-0600
TZNAME:CST
DTSTART:20191103T070000
END:STANDARD
END:VTIMEZONE
BEGIN:VEVENT
DTSTART;TZID=America/Chicago:20190713T170000
DTEND;TZID=America/Chicago:20190713T170000
DTSTAMP:20260424T013442
CREATED:20190707T215750Z
LAST-MODIFIED:20190723T011544Z
UID:12602-1563037200-1563037200@www.illianapullers.com
SUMMARY:Penfield\, IL
DESCRIPTION:Farm Stock\n\n\n \n\n\n1st Wade Rueck Roberts\, IL Ram Rod 338.19\n\n\n2nd Tom Petersak Westville\, IL JD4455 327.79\n\n\n3rd Jerry Cardinal Oaktown\, IN My Wife’s Diamond 315.48\n\n\n4th Ryan Musson Sadorus\, IL IH 1066 312.63\n\n\n5th Charlie Myerscough Seymour\, IL IH1066 312.43\n\n\n6th Eddie Heidrick Danville\, IL Jenny’s Worst Nightmare 311.71\n\n\n7th Eddie Heidrick Danville\, IL Jenny’s Nightmare 311.15\n\n\n8th Tyson Weckel Urbana\, IL IH1080 306.27\n\n\n9th Brad Clemmons Champaign\, IL 970 Case 302.82\n\n\n10th Alan Edwards Monrovia\, IN Jus Playin 299.38\n\n\n11th Jim Berbaum Champaign\, IL Barely Getting Bye 298.72\n\n\n12th Josh Eighner JD4440 291.73\n\n\n13th Joel Moore Thawville\, IL Cash Rent 215.35\n\n\n14th Devin Raup Thomasboro\, IL JD4440 283.37\n\n\n15th Tommy Mullvain St. Joseph\, IL Silver Fox 247.67\n\n\n16th Gene Flainingam Vincennes\, IN Smokin Hot (Broke)\n\n\n \n\n\nPro Farm\n\n\n \n\n\n1st Dean Eisemann Fountain Creek\, IL Fountain Creek Streak 315.52\n\n\n2nd Cody Frerichs Gifford\, IL IH 1466 303.61\n\n\n3rd Scott Hoene Neoga\, IL IH 1066 303.28\n\n\n4th Curt Goeckner Effingham\, IL Calibrated Buck 294.16\n\n\n5th Darin Doenring Windsor\, IL The Mistress 292.72\n\n\n6th Joe Knies Ashley\, IL Trojan Horse 254.72\n\n\n \n\n\nN/A\n\n\n \n\n\n1st Brian Diskin Fithian\, IL If She Only Knew 302.07\n\n\n2nd Rich Eisenmann Fountain Creek\, IL 4 Sale 300.43\n\n\n3rd Carl Warfel Ridgefarm\, IL JD5020 298.69\n\n\n4th Mike Spesard Ridgefarm\, IL JD5020 294.98\n\n\n5th Dick Neef Mansfield\, IL White 2-180 293.14\n\n\n6th Will Cresap White Heath\, IL Country Boy 292.75\n\n\n7th Shane Diskin Rankin\, IL JD 5010 289.44\n\n\n8th Steve Spesard Ridgefarm\, IL MF 2775 288.45\n\n\n9th Blake Moffett Windsor\, IL Oliver 2255 270.70\n\n\n10th Jeremy Schaffer Pontiac\, IL Case 2090 278.31\n\n\n11th Dean Lambert Georgetown\, IL White 2-180 277.46\n\n\n12th Dennis Neef Champaign\, IL White 2-180 273.29\n\n\n13th Dennis Neef Champaign\, IL Oliver 2255 270.70\n\n\n14th Kyle Henrichs Onarga\, IL Oliver 1355 257.94\n\n\n15th Doug Roberts Mansfield\, IL The Veteran (Broke)\n\n\n16th Leon Schulter Royal\, IL IH966 (Broke)\n\nDir: Craig K. Flaggers: Richard\, Jay\, Jody.\nNA Tractors\, Pro Farm\, Farm Stock
URL:https://www.illianapullers.com/event/penfield-il/
LOCATION:Penfield\, IL\, United States
END:VEVENT
END:VCALENDAR