BEGIN:VCALENDAR
VERSION:2.0
PRODID:-//Illiana Pullers Association - Tractor Pulling Association Illinois Indiana - ECPv6.1.3//NONSGML v1.0//EN
CALSCALE:GREGORIAN
METHOD:PUBLISH
X-ORIGINAL-URL:https://www.illianapullers.com
X-WR-CALDESC:Events for Illiana Pullers Association - Tractor Pulling Association Illinois Indiana
REFRESH-INTERVAL;VALUE=DURATION:PT1H
X-Robots-Tag:noindex
X-PUBLISHED-TTL:PT1H
BEGIN:VTIMEZONE
TZID:America/Chicago
BEGIN:DAYLIGHT
TZOFFSETFROM:-0600
TZOFFSETTO:-0500
TZNAME:CDT
DTSTART:20190310T080000
END:DAYLIGHT
BEGIN:STANDARD
TZOFFSETFROM:-0500
TZOFFSETTO:-0600
TZNAME:CST
DTSTART:20191103T070000
END:STANDARD
END:VTIMEZONE
BEGIN:VEVENT
DTSTART;TZID=America/Chicago:20190724T190000
DTEND;TZID=America/Chicago:20190724T220000
DTSTAMP:20260424T013442
CREATED:20190707T220911Z
LAST-MODIFIED:20190811T153859Z
UID:12620-1563994800-1564005600@www.illianapullers.com
SUMMARY:Oblong\, IL
DESCRIPTION:Outlaw\n\n\n \n\n\n1st Dan Reeder Greenup\, IL 300.00\n\n\n2nd Bill Miller Farina\, IL 283.3\n\n\n3rd Dirk Harms St. Joseph\, IL 280.10\n\n\n4th Richard Crone Martinsville\, IN 280.4\n\n\n5th Noah Campbell Urbana\, IL 275.5\n\n\n6th Ehren Lohrmann Lebanon\, IN 271.10\n\n\n7th Bill Warmoth Martinsville\, IN 280.4\n\n\n8th Larry Fonner Danville\, IL 263.10\n\n\n \n\n\nFarm Stock Tractors\n\n\n \n\n\n1st Tom Petersak Westville\, IL 311.10\n\n\n2nd Kayla Heidrick Danville\, IL 308.9\n\n\n3rd Charlie Myerscough Seymour\, IL 295.10\n\n\n4th Eddie Heidrick Danville\, IL 293.4\n\n\n5th Jerry Cardinal Oaktown\, IL (Broke)\n\n\n \n\n\nAlt. Stock Trucks\n\n\n \n\n\n1st Dirk Nail Chrisman\, IL 329.4\n\n\n2nd Justin Muchow Paris\, IL Shameless 321.1\n\n\n3rd Jim Coddington Broadlands\, IL 316.5\n\n\n \n\n\nNA Tractors\n\n\n \n\n\n1st Steve Spesard Ridgefarm\, IL 298.0\n\n\n2nd Shane Diskin Rankin\,IL 297.1\n\n\n3rd Leland Moffett Windsor\, IL 292.7\n\n\n4th Dennis Neef Mansfield\, IL 289.4\n\n\n5th Wes Neef Champaign\, IL 289.3\n\n\n6th Brian Diskin Fithian\, IL 4 Sale 285.0\n\n\n7th Carl Warfel Ridgefarm\, IL 260.10\n\n\n8th Brian Diskin If She Only Knew 247.5\n\n\n9th Doug Roberts Mansfield\, IL 240.0\n\n\n10th Mike Spesard Ridgefarm\, IL 238.10\n\n\n11th Blake Moffett Gays\, IL (Broke)
URL:https://www.illianapullers.com/event/oblong-il/
LOCATION:Oblong\, Oblong\, IL\, United States
END:VEVENT
END:VCALENDAR