BEGIN:VCALENDAR
VERSION:2.0
PRODID:-//Illiana Pullers Association - Tractor Pulling Association Illinois Indiana - ECPv6.1.3//NONSGML v1.0//EN
CALSCALE:GREGORIAN
METHOD:PUBLISH
X-WR-CALNAME:Illiana Pullers Association - Tractor Pulling Association Illinois Indiana
X-ORIGINAL-URL:https://www.illianapullers.com
X-WR-CALDESC:Events for Illiana Pullers Association - Tractor Pulling Association Illinois Indiana
REFRESH-INTERVAL;VALUE=DURATION:PT1H
X-Robots-Tag:noindex
X-PUBLISHED-TTL:PT1H
BEGIN:VTIMEZONE
TZID:America/Chicago
BEGIN:DAYLIGHT
TZOFFSETFROM:-0600
TZOFFSETTO:-0500
TZNAME:CDT
DTSTART:20190310T080000
END:DAYLIGHT
BEGIN:STANDARD
TZOFFSETFROM:-0500
TZOFFSETTO:-0600
TZNAME:CST
DTSTART:20191103T070000
END:STANDARD
END:VTIMEZONE
BEGIN:VEVENT
DTSTART;TZID=America/Chicago:20190727T170000
DTEND;TZID=America/Chicago:20190727T220000
DTSTAMP:20260424T013306
CREATED:20190707T222044Z
LAST-MODIFIED:20190811T152948Z
UID:12626-1564246800-1564264800@www.illianapullers.com
SUMMARY:Champaign\, IL
DESCRIPTION:Farm Stock\n\n\n \n\n\n1st Tom Petersak Westville\, IL JD4455 303.25\n\n\n2nd Charlie Myerscough Seymour\, IL IH 1066 302.76\n\n\n3rd Josh Heidrick Danville\, IL Jenny’s Nightmare 301.57\n\n\n4th Gene Flannigan Vinceness\, IN Smokin Hot 293.73\n\n\n5th Kurt Rademacher St. Joseph\, IL IH 1466 288.19\n\n\n6th Jerry Cardinal Oaktown\, IN My Wife’s Diamond 287.66\n\n\n7th Ryan Musson Sadours\, IL IH 1066 285.60\n\n\n8th Eddie Heidrick Danville\, IL Jenny’s Worst Nightmare 282.94\n\n\n9th Alan Edwards Monrovia\, IN Jus Playing 280.99\n\n\n10th Jesse Bauer Cissna Park\, IL JD4440 273.39\n\n\n11th James Berbaum Champaign\, IL Case 1570 271.39\n\n\n12th Tyson Weckel Urbana\, IL IH 1086 263.45\n\n\n \n\n\nAlt. Stock Trucks\n\n\n \n\n\n1st Brian Haga Sidell\, IL Cornfield Hustler 310.07\n\n\n2nd Jerry Martin Greencastle\, IN Martin Farms 307.26\n\n\n3rd Justin Muchow Paris\, IL Shameless 307.04\n\n\n4th Dirk Nail Chrisman\, IL Pullin Nails 301.35\n\n\n \n\n\nOutlaw\n\n\n \n\n\n1st Richard Crone Martinsville\, IN G-6 318.99\n\n\n2nd Bill Miller Farnia\, IL G-6 315.14\n\n\n3rd Dan Reeder Greenup\, IL MM705 314.95\n\n\n4th Bill Points Waverly\, IL Pointless 314.23\n\n\n5th Scott Sage Gifford\, IL Ole Yeller 311.88\n\n\n6th Billy Warmoth Martinsville\, IN G-6 302.28\n\n\n7th Noah Campbell Urbana\, IL Student Loans 300.72\n\n\n8th Brian Butler Crawfordsville\, IN Fort Knox 288.08\n\n\n \n\n\nPro Farm\n\n\n \n\n\n1st Jason Frerichs Penfield\, IL IH 1466 297.15\n\n\n2nd Dean Eisenmann Hoopeston\, IL Fountain Creek Streek 284.82\n\n\n3rd John Johnson Danville\, IL Built For Business 275.78\n\n\n4th Mike Gajewski Ashley\, IL Trojan Horse 266.11\n\n\n \n\n\nNA\n\n\n \n\n\n1st Sam Diskin Fithian\, IL If She Only Knew 283.63\n\n\n2nd Steve Spesard Ridgefarm\, IL MF 2775 283.07\n\n\n3rd Rich Eisenmann Cissna Park\, IL JD 4 Sale 282.05\n\n\n4th Leland Moffett Windsor\, IL Cockshutt 2255 281.89\n\n\n5th Mike Spesard Ridgefarm\, IL JD 5020 280.90\n\n\n6th Carl Warfel Ridgefarm\, IL JD5020 280.45\n\n\n7th Will Cresap White Heath\, IL The Country Boy 280.31\n\n\n8th Dick Neef Mansfield\, IL White 2-180 280.25\n\n\n9th Blake Moffett Gays\, IL Oliver 2255 277.46\n\n\n10th Shane Diskin Rankin\, IL JD5010 276.35\n\n\n11th Dean Lambert Georgetown\, IL White 2-180 265.58\n\n\n12th Doug Roberts Mansfield\, IL The Veteran 263.32\n\n\n13th Wes Neef Champaign\, IL Oliver 2255 263.02\n\n\n14th Leon Schluter Royal\, IL IH 966 261.48\n\n\n15th Dennis Neef Mansfield\, IL White 2-180 259.68\n\n\n16th Mike Berbaum White Heath\, IL Case 2090 252.16\n\n\n17th Kyle Henrichs Onarga\, IL Oliver B 1355 242.19\n\n\n \n\n\nPro Stock Trucks\n\n\n \n\n\n1st Mike Clark Brazil\, IN Barely Getting By 308.85\n\n\n2nd Trace Thomas Brazil\, IN Blue’s Back 304.88\n\n\n3rd Luke Thomas Greencastle\, IN Legion 304.66\n\n\n4th Devin Wright Paris\, IL Sprout 295.75\n\n\n5th Cauy Thomas Brazil\, IN Rickochet 295.18\n\n\n6th Joe Cash Fillmore\, IN Farmer’s Hooker 289.93\n\n\n7th Eric Meredith Herscher\, Il FordBidden 285.74\n\n\n8th Nash Reinoehl Reelsville\, IN Rdiculous 280.29\n\n\n9th Wes Bell Stilesville\, IN GMC 279.29\n\n\n10th Greg Samet Hoopeston\, IL Copperhead 278.98\n\n\n11th Mason Layden Wellington\, IL Bodacious 278.29\n\n\n \n\n\nMini Rods\n\n\n \n\n\n1st Zach Jasper Washington\, MO Thunder Struck 343.05\n\n\n2nd Stacy Butson Beloit\, IL American Ethanol 330.46\n\n\n3rd MItchell Phipps Kane\, IL Cornfield Cruiser 323.14\n\n\n4th Perry Butson Edgerton\, WI Ethanol Express 319.59\n\n\n5th Russell Phipps Kane\, IL Just One More 313.73\n\n\n6th Perry Butsom Edgerton\, WI E-15 312.49\n\n\n7th Tim Stucky Fairview\, IL The Mistress 295.65
URL:https://www.illianapullers.com/event/champaign-il/
LOCATION:Champaign\, Champaign\, IL\, United States
END:VEVENT
END:VCALENDAR