BEGIN:VCALENDAR
VERSION:2.0
PRODID:-//Illiana Pullers Association - Tractor Pulling Association Illinois Indiana - ECPv6.1.3//NONSGML v1.0//EN
CALSCALE:GREGORIAN
METHOD:PUBLISH
X-ORIGINAL-URL:https://www.illianapullers.com
X-WR-CALDESC:Events for Illiana Pullers Association - Tractor Pulling Association Illinois Indiana
REFRESH-INTERVAL;VALUE=DURATION:PT1H
X-Robots-Tag:noindex
X-PUBLISHED-TTL:PT1H
BEGIN:VTIMEZONE
TZID:America/Chicago
BEGIN:DAYLIGHT
TZOFFSETFROM:-0600
TZOFFSETTO:-0500
TZNAME:CDT
DTSTART:20190310T080000
END:DAYLIGHT
BEGIN:STANDARD
TZOFFSETFROM:-0500
TZOFFSETTO:-0600
TZNAME:CST
DTSTART:20191103T070000
END:STANDARD
END:VTIMEZONE
BEGIN:VEVENT
DTSTART;TZID=America/Chicago:20190728T120000
DTEND;TZID=America/Chicago:20190728T170000
DTSTAMP:20260424T001550
CREATED:20190707T222212Z
LAST-MODIFIED:20190811T153322Z
UID:12629-1564315200-1564333200@www.illianapullers.com
SUMMARY:Loda\, IL
DESCRIPTION:Alt. Stock Trucks \n1st Justin Muchow Paris\, IL Shameless 262.17\n2nd Jim Coddington Broadlands\, IL All Jacked Up 241.80\n3rd Ben Coulter Paxton\, IL Left Overs (Broke) \n\nFarm Stock \n1st Wade Rueck Roberts\, IL Ram Rod 313.52\n2nd & 3rd Jerry Cardinal Oaktown\, IN My Wife’s Diamond and Tom Petersake Westville\, IL Illegal Immigrant tied 312.96\n4th Charlie Myerscough Seymour\, IL IH 1066 302.03\n5th Kayla Heidrick Danville\, IL Jenny’s Nightmare 295.54\n6th Josh Heidrick Danville\, IL Jenny’s Worst Nightmare 285.01\n7th Gene Flaningam Vincennes\, IN Smokin Hot 279.69\n8th Brad Clemmons Champaign\, IL Blind Squirrel 270.64\n9th Jesse Bauer Cissna Park\, IL Bad Company (Broke) \nOutlaw \n1st Bill Points Waverly\, IL Pointless 306.46\n2nd Ehren Lohrmann Lebanon\, IN G-6 302.46\n3rd Scott Sage Flatville\, IL Ole Yeller 295.70\n4th Dan Reeder Greenup\, IL Miniac 295.27\n5th Richard Crone Martinsville\, IN G-6 291.76\n6th Bill Warmoth Martinsville\, IN G-6 289.96\n7th Noah Campbell Urbana\, IL Student Loans 280.64\n8th Ben Coulter Paxton\, IL Fort Knox 269.52\n9th Billy Edwards Crawfordsville\, IN Moline G-6 262.20
URL:https://www.illianapullers.com/event/loda-il/
LOCATION:Loda\, Loda\, IL\, United States
END:VEVENT
END:VCALENDAR