BEGIN:VCALENDAR
VERSION:2.0
PRODID:-//Illiana Pullers Association - Tractor Pulling Association Illinois Indiana - ECPv6.1.3//NONSGML v1.0//EN
CALSCALE:GREGORIAN
METHOD:PUBLISH
X-WR-CALNAME:Illiana Pullers Association - Tractor Pulling Association Illinois Indiana
X-ORIGINAL-URL:https://www.illianapullers.com
X-WR-CALDESC:Events for Illiana Pullers Association - Tractor Pulling Association Illinois Indiana
REFRESH-INTERVAL;VALUE=DURATION:PT1H
X-Robots-Tag:noindex
X-PUBLISHED-TTL:PT1H
BEGIN:VTIMEZONE
TZID:America/Chicago
BEGIN:DAYLIGHT
TZOFFSETFROM:-0600
TZOFFSETTO:-0500
TZNAME:CDT
DTSTART:20190310T080000
END:DAYLIGHT
BEGIN:STANDARD
TZOFFSETFROM:-0500
TZOFFSETTO:-0600
TZNAME:CST
DTSTART:20191103T070000
END:STANDARD
END:VTIMEZONE
BEGIN:VEVENT
DTSTART;TZID=America/Chicago:20190804T120000
DTEND;TZID=America/Chicago:20190804T160000
DTSTAMP:20260424T001431
CREATED:20190707T222707Z
LAST-MODIFIED:20190723T232141Z
UID:12638-1564920000-1564934400@www.illianapullers.com
SUMMARY:Kankakee\, IL
DESCRIPTION:Dir:Brian Diskin. Flaggers:Ben C.\, Ben T.\, Craig.\nAltered Stock 4X4\, Pro Stock 4X4\, NA Tractors\, Pro Farm\, Outlaw
URL:https://www.illianapullers.com/event/kankakee-il/
LOCATION:Kankakee\, Kankakee\, IL\, United States
END:VEVENT
END:VCALENDAR