BEGIN:VCALENDAR
VERSION:2.0
PRODID:-//Illiana Pullers Association - Tractor Pulling Association Illinois Indiana - ECPv6.1.3//NONSGML v1.0//EN
CALSCALE:GREGORIAN
METHOD:PUBLISH
X-ORIGINAL-URL:https://www.illianapullers.com
X-WR-CALDESC:Events for Illiana Pullers Association - Tractor Pulling Association Illinois Indiana
REFRESH-INTERVAL;VALUE=DURATION:PT1H
X-Robots-Tag:noindex
X-PUBLISHED-TTL:PT1H
BEGIN:VTIMEZONE
TZID:America/Chicago
BEGIN:DAYLIGHT
TZOFFSETFROM:-0600
TZOFFSETTO:-0500
TZNAME:CDT
DTSTART:20190310T080000
END:DAYLIGHT
BEGIN:STANDARD
TZOFFSETFROM:-0500
TZOFFSETTO:-0600
TZNAME:CST
DTSTART:20191103T070000
END:STANDARD
END:VTIMEZONE
BEGIN:VEVENT
DTSTART;TZID=America/Chicago:20190808T190000
DTEND;TZID=America/Chicago:20190808T220000
DTSTAMP:20260424T001550
CREATED:20190707T223104Z
LAST-MODIFIED:20190910T235644Z
UID:12644-1565290800-1565301600@www.illianapullers.com
SUMMARY:Marshall\, IL
DESCRIPTION:Marshall\, IL Results \nPro Stock Trucks \n1st Brad Chamberlain Brazil\, IN Barely Gettin By 319.78\n2nd Nick Scott Sullivan\, IN Joint Custody 315.17\n3rd Cauy Thomas Greencastle\, IN Rickochet 309.41\n4th Luke Thomas Greencastle\, IN Legion 308.82\n5th Trace Thomas Greencastle\, IN Blue’s Back 303.62\n6th Joe Cash Fillmore\, IN Farmer’s Hooker 298.33\n7th Greg Samet Hoopeston\, IL Copperhead 297.37\n8th Jeff Moody Paris\, IL Green Fever 286.29\n9th Justin Koger Fillmore\, IN Monoply Money 285.52\n10th Devin Wright Paris\, IL Sprout 222.66 \n\nAlt. Stock Trucks \n1st Dirk Nail Chrisman\, IL Pullin Nails 272.02\n2nd Brian Haga Sidell\, IL Cornfield Hustler 270.94\n3rd Justin Muchow Paris\, IL Shameless 267.47\n4th Jerry Martin Greencastle\, IN 85 Ford 260.51 \nOutlaw \n1st Derek Harms Flatville\, IL Ole Yeller 297.18\n2nd Bill Miller Farina\, IL G-6 289.07\n3rd Richard Crone Eminence\, IN MMG-6 279.02\n3rd Noah Campbell Urbana\, IL Student Loans 279.02\n5th Ron Cowman Alexander\, IL Cubic Dollars \n6th Bill Points Waverly\, IL Pointless 271.68\n7th Ehren Lohrmann Lebanon\, IN Fort Knox 258.81\n8th Larry Fonner Danville\, IL MMG-6 254.69\n9th Dan Reeder Greenup\, IL MM705 246.27
URL:https://www.illianapullers.com/event/marshall-il/
LOCATION:Marshall\, Marshall\, IL\, United States
END:VEVENT
END:VCALENDAR