BEGIN:VCALENDAR
VERSION:2.0
PRODID:-//Illiana Pullers Association - Tractor Pulling Association Illinois Indiana - ECPv6.1.3//NONSGML v1.0//EN
CALSCALE:GREGORIAN
METHOD:PUBLISH
X-ORIGINAL-URL:https://www.illianapullers.com
X-WR-CALDESC:Events for Illiana Pullers Association - Tractor Pulling Association Illinois Indiana
REFRESH-INTERVAL;VALUE=DURATION:PT1H
X-Robots-Tag:noindex
X-PUBLISHED-TTL:PT1H
BEGIN:VTIMEZONE
TZID:America/Chicago
BEGIN:DAYLIGHT
TZOFFSETFROM:-0600
TZOFFSETTO:-0500
TZNAME:CDT
DTSTART:20200308T080000
END:DAYLIGHT
BEGIN:STANDARD
TZOFFSETFROM:-0500
TZOFFSETTO:-0600
TZNAME:CST
DTSTART:20201101T070000
END:STANDARD
END:VTIMEZONE
BEGIN:VEVENT
DTSTART;TZID=America/Chicago:20200618T180000
DTEND;TZID=America/Chicago:20200618T220000
DTSTAMP:20260423T081915
CREATED:20200302T152007Z
LAST-MODIFIED:20200512T174711Z
UID:13258-1592503200-1592517600@www.illianapullers.com
SUMMARY:Melvin\, IL Postponed
DESCRIPTION:Pro Stock 4 X 4 Trucks\, Limited Mini Rods\, Outlaw Tractor\, Farm Stock Tractors
URL:https://www.illianapullers.com/event/melvin-il/
END:VEVENT
BEGIN:VEVENT
DTSTART;TZID=America/Chicago:20200619T180000
DTEND;TZID=America/Chicago:20200619T220000
DTSTAMP:20260423T081915
CREATED:20200302T152211Z
LAST-MODIFIED:20200619T195704Z
UID:13260-1592589600-1592604000@www.illianapullers.com
SUMMARY:Newman\, IL Canceled!
DESCRIPTION:  \nAlt. Stock 4 X 4 Trucks\, Farm Stock\, Outlaw Tractors\, Outlaw Tractors\, N/A Tractors\, Pro Farm Tractors
URL:https://www.illianapullers.com/event/newman-il/
END:VEVENT
BEGIN:VEVENT
DTSTART;TZID=America/Chicago:20200620T180000
DTEND;TZID=America/Chicago:20200620T220000
DTSTAMP:20260423T081915
CREATED:20200302T152339Z
LAST-MODIFIED:20200619T195640Z
UID:13262-1592676000-1592690400@www.illianapullers.com
SUMMARY:New Berlin\, IL Canceled!
DESCRIPTION:Outlaw Tractors\, Mini Rods
URL:https://www.illianapullers.com/event/new-berlin-il/
END:VEVENT
BEGIN:VEVENT
DTSTART;TZID=America/Chicago:20200625T180000
DTEND;TZID=America/Chicago:20200625T220000
DTSTAMP:20260423T081915
CREATED:20200215T230743Z
LAST-MODIFIED:20200619T195612Z
UID:13242-1593108000-1593122400@www.illianapullers.com
SUMMARY:Danville\, IL Canceled!
DESCRIPTION:Pro Stock 4X4\, NA Tractors\, Outlaw\, Farm Stock
URL:https://www.illianapullers.com/event/danville-il/
END:VEVENT
BEGIN:VEVENT
DTSTART;TZID=America/Chicago:20200626T180000
DTEND;TZID=America/Chicago:20200626T220000
DTSTAMP:20260423T081915
CREATED:20200302T152640Z
LAST-MODIFIED:20200619T195531Z
UID:13266-1593194400-1593208800@www.illianapullers.com
SUMMARY:Rankin\, IL Canceled!
DESCRIPTION:Pro Stock 4 X 4 Trucks\, N/A Tractors\, Outlaw Tractors\, Farm Stock Tractors\, Pro Farm Tractors 
URL:https://www.illianapullers.com/event/rankin-il/
END:VEVENT
BEGIN:VEVENT
DTSTART;TZID=America/Chicago:20200627T170000
DTEND;TZID=America/Chicago:20200627T220000
DTSTAMP:20260423T081915
CREATED:20200302T152919Z
LAST-MODIFIED:20200619T195440Z
UID:13268-1593277200-1593295200@www.illianapullers.com
SUMMARY:Hazelwood\, IN Canceled!
DESCRIPTION:Alt. Stock 4 X 4 Trucks\, Outlaw Tractors\, Farm Stock Tractors\, Pro Stock 4 X 4 Trucks 
URL:https://www.illianapullers.com/event/hazelwood-in/
END:VEVENT
END:VCALENDAR