BEGIN:VCALENDAR
VERSION:2.0
PRODID:-//Illiana Pullers Association - Tractor Pulling Association Illinois Indiana - ECPv6.1.3//NONSGML v1.0//EN
CALSCALE:GREGORIAN
METHOD:PUBLISH
X-WR-CALNAME:Illiana Pullers Association - Tractor Pulling Association Illinois Indiana
X-ORIGINAL-URL:https://www.illianapullers.com
X-WR-CALDESC:Events for Illiana Pullers Association - Tractor Pulling Association Illinois Indiana
REFRESH-INTERVAL;VALUE=DURATION:PT1H
X-Robots-Tag:noindex
X-PUBLISHED-TTL:PT1H
BEGIN:VTIMEZONE
TZID:America/Chicago
BEGIN:DAYLIGHT
TZOFFSETFROM:-0600
TZOFFSETTO:-0500
TZNAME:CDT
DTSTART:20200308T080000
END:DAYLIGHT
BEGIN:STANDARD
TZOFFSETFROM:-0500
TZOFFSETTO:-0600
TZNAME:CST
DTSTART:20201101T070000
END:STANDARD
END:VTIMEZONE
BEGIN:VEVENT
DTSTART;TZID=America/Chicago:20200707T183000
DTEND;TZID=America/Chicago:20200707T203000
DTSTAMP:20260423T064435
CREATED:20200302T153005Z
LAST-MODIFIED:20200619T195422Z
UID:13270-1594146600-1594153800@www.illianapullers.com
SUMMARY:Knoxville\, IL Canceled!
DESCRIPTION:Mini Rods
URL:https://www.illianapullers.com/event/knoxville-il-2/
END:VEVENT
BEGIN:VEVENT
DTSTART;TZID=America/Chicago:20200708T060000
DTEND;TZID=America/Chicago:20200708T210000
DTSTAMP:20260423T064435
CREATED:20200302T153141Z
LAST-MODIFIED:20200619T194733Z
UID:13272-1594188000-1594242000@www.illianapullers.com
SUMMARY:Jacksonville\, IL Canceled!
DESCRIPTION:Outlaw Tractors\, Pro Farm Tractors\, Mini Rods
URL:https://www.illianapullers.com/event/jacksonville-il-3/
END:VEVENT
BEGIN:VEVENT
DTSTART;TZID=America/Chicago:20200709T180000
DTEND;TZID=America/Chicago:20200709T220000
DTSTAMP:20260423T064435
CREATED:20200302T153442Z
LAST-MODIFIED:20200619T194834Z
UID:13274-1594317600-1594332000@www.illianapullers.com
SUMMARY:Jacksonville\, IL Canceled!
DESCRIPTION:Alt. Stock 4 X 4 Trucks\, Pro Stock  4 X 4 Trucks
URL:https://www.illianapullers.com/event/jacksonville-il-4/
LOCATION:Jacksonville\, IL\, United States
END:VEVENT
BEGIN:VEVENT
DTSTART;TZID=America/Chicago:20200711T170000
DTEND;TZID=America/Chicago:20200711T210000
DTSTAMP:20260423T064435
CREATED:20200302T202836Z
LAST-MODIFIED:20200602T182849Z
UID:13306-1594486800-1594501200@www.illianapullers.com
SUMMARY:Penfield\, IL Cancelled
DESCRIPTION:Outlaw Tractors\, Pro Farm Tractors\, Farm Stock Tractors 
URL:https://www.illianapullers.com/event/penfield-il-2/
LOCATION:Penfield\, IL\, United States
END:VEVENT
BEGIN:VEVENT
DTSTART;TZID=America/Chicago:20200717T190000
DTEND;TZID=America/Chicago:20200717T220000
DTSTAMP:20260423T064435
CREATED:20200302T153607Z
LAST-MODIFIED:20200619T194632Z
UID:13276-1595012400-1595023200@www.illianapullers.com
SUMMARY:Kentland\, IN Canceled!
DESCRIPTION:Outlaw Tractors\, Farm Stock Tractors\, Pro Farm Tractors\, Pro Stock 4 X 4 Trucks
URL:https://www.illianapullers.com/event/kentland-in/
END:VEVENT
BEGIN:VEVENT
DTSTART;TZID=America/Chicago:20200719T170000
DTEND;TZID=America/Chicago:20200719T210000
DTSTAMP:20260423T064435
CREATED:20200302T153729Z
LAST-MODIFIED:20200619T194601Z
UID:13278-1595178000-1595192400@www.illianapullers.com
SUMMARY:Greencastle\, IN Canceled!
DESCRIPTION:Alt. Stock 4 X 4 Trucks\, Farm Stock Tractors\, Outlaw Tractors\, Pro Stock 4 X 4 Trucks
URL:https://www.illianapullers.com/event/greencastle-in/
LOCATION:Green Castle\, Green Castle\, IN\, United States
END:VEVENT
BEGIN:VEVENT
DTSTART;TZID=America/Chicago:20200721T190000
DTEND;TZID=America/Chicago:20200721T220000
DTSTAMP:20260423T064435
CREATED:20200302T153841Z
LAST-MODIFIED:20200619T194659Z
UID:13280-1595358000-1595368800@www.illianapullers.com
SUMMARY:Oblong\, IL Canceled!
DESCRIPTION:N/A Tractors\, Outlaw Tractors\, Alt. Stock 4 X 4 Trucks\, Farm Stock Tractors
URL:https://www.illianapullers.com/event/oblong-il-2/
LOCATION:Oblong\, Oblong\, IL\, United States
END:VEVENT
BEGIN:VEVENT
DTSTART;TZID=America/Chicago:20200724T183000
DTEND;TZID=America/Chicago:20200724T220000
DTSTAMP:20260423T064435
CREATED:20200302T154010Z
LAST-MODIFIED:20200619T171836Z
UID:13282-1595615400-1595628000@www.illianapullers.com
SUMMARY:Paris\,  IL Canceled!
DESCRIPTION:Alt. Stock 4 X 4 Trucks\, Pro Stock 4 X 4 Trucks\, Outlaw Tractors\, Farm Stock Tractors
URL:https://www.illianapullers.com/event/paris-il-2/
LOCATION:Paris\, Paris\, IL\, United States
END:VEVENT
BEGIN:VEVENT
DTSTART;TZID=America/Chicago:20200725T180000
DTEND;TZID=America/Chicago:20200725T220000
DTSTAMP:20260423T064435
CREATED:20200302T155454Z
LAST-MODIFIED:20200619T194526Z
UID:13296-1595700000-1595714400@www.illianapullers.com
SUMMARY:Farmer City\, IL Canceled!
DESCRIPTION:N/A Tractors\, Mini Rods\,  Farm Stock Tractors\, Old Skool
URL:https://www.illianapullers.com/event/farmer-city-il-2/
LOCATION:Farmer City\, Farmer City\, IL\, United States
END:VEVENT
BEGIN:VEVENT
DTSTART;TZID=America/Chicago:20200731T180000
DTEND;TZID=America/Chicago:20200731T220000
DTSTAMP:20260423T064435
CREATED:20200302T154210Z
LAST-MODIFIED:20200619T172309Z
UID:13284-1596218400-1596232800@www.illianapullers.com
SUMMARY:Rossville\, IL Canceled!
DESCRIPTION:Pro Stock 4 X 4 Trucks\, Pro Farm Tractors\, Outlaw Tractors\, N/A Tractors\, Farm Stock Tractor
URL:https://www.illianapullers.com/event/rossville-il-2/
LOCATION:Rossville\, Rossville\, IL\, United States
END:VEVENT
END:VCALENDAR