BEGIN:VCALENDAR
VERSION:2.0
PRODID:-//Illiana Pullers Association - Tractor Pulling Association Illinois Indiana - ECPv6.1.3//NONSGML v1.0//EN
CALSCALE:GREGORIAN
METHOD:PUBLISH
X-ORIGINAL-URL:https://www.illianapullers.com
X-WR-CALDESC:Events for Illiana Pullers Association - Tractor Pulling Association Illinois Indiana
REFRESH-INTERVAL;VALUE=DURATION:PT1H
X-Robots-Tag:noindex
X-PUBLISHED-TTL:PT1H
BEGIN:VTIMEZONE
TZID:America/Chicago
BEGIN:DAYLIGHT
TZOFFSETFROM:-0600
TZOFFSETTO:-0500
TZNAME:CDT
DTSTART:20200308T080000
END:DAYLIGHT
BEGIN:STANDARD
TZOFFSETFROM:-0500
TZOFFSETTO:-0600
TZNAME:CST
DTSTART:20201101T070000
END:STANDARD
END:VTIMEZONE
BEGIN:VEVENT
DTSTART;TZID=America/Chicago:20200801T170000
DTEND;TZID=America/Chicago:20200801T200000
DTSTAMP:20260423T051621
CREATED:20200302T154520Z
LAST-MODIFIED:20200619T172250Z
UID:13286-1596301200-1596312000@www.illianapullers.com
SUMMARY:Champaign\, IL Canceled!
DESCRIPTION:8500 Limited Pro\, Pro Farm Tractors\, Outlaw Tractors\, Farm Stock Tractors\, Alt. Stock 4 x 4 Trucks\, Mini Rods
URL:https://www.illianapullers.com/event/champaign-il-2/
LOCATION:Champaign\, Champaign\, IL\, United States
END:VEVENT
BEGIN:VEVENT
DTSTART;TZID=America/Chicago:20200802T120000
DTEND;TZID=America/Chicago:20200802T170000
DTSTAMP:20260423T051621
CREATED:20200302T154737Z
LAST-MODIFIED:20200619T172227Z
UID:13288-1596369600-1596387600@www.illianapullers.com
SUMMARY:Kankakee\, IL Canceled!
DESCRIPTION:Alt. Stock 4 X 4 Trucks\, Pro Stock 4 X 4 Trucks\, N/A Tractors\, Pro Farm Tractors\, Outlaw Tractors
URL:https://www.illianapullers.com/event/kankakee-il-2/
LOCATION:Kankakee\, Kankakee\, IL\, United States
END:VEVENT
BEGIN:VEVENT
DTSTART;TZID=America/Chicago:20200805T180000
DTEND;TZID=America/Chicago:20200805T200000
DTSTAMP:20260423T051621
CREATED:20200302T154840Z
LAST-MODIFIED:20200619T172142Z
UID:13290-1596650400-1596657600@www.illianapullers.com
SUMMARY:Bloomington\, IL Canceled!
DESCRIPTION:Mini Rods\, 8500 Limited Pro 
URL:https://www.illianapullers.com/event/bloomington-il/
END:VEVENT
BEGIN:VEVENT
DTSTART;TZID=America/Chicago:20200812T180000
DTEND;TZID=America/Chicago:20200812T220000
DTSTAMP:20260423T051621
CREATED:20200302T155033Z
LAST-MODIFIED:20200619T172114Z
UID:13292-1597255200-1597269600@www.illianapullers.com
SUMMARY:Georgetown\, IL Canceled!
DESCRIPTION:Double A Purse \nAlt. Stock 4 X 4 Trucks\, Pro Stock 4 x 4 Trucks\, N/A Tractors\, Outlaw Tractors\, Farm Stock Tractors\, 8500 Limited Pro 
URL:https://www.illianapullers.com/event/georgetown-il-2/
LOCATION:Georgetown\, Georgetown\, IL\, United States
END:VEVENT
BEGIN:VEVENT
DTSTART;TZID=America/Chicago:20200815T170000
DTEND;TZID=America/Chicago:20200815T220000
DTSTAMP:20260423T051621
CREATED:20200302T155136Z
LAST-MODIFIED:20200619T171930Z
UID:13294-1597510800-1597528800@www.illianapullers.com
SUMMARY:Winchester\, IL Canceled!!
DESCRIPTION:Outlaw Tractors\, Old Skool\, Farm Stock\, Mini Rods
URL:https://www.illianapullers.com/event/winchester-il-2/
LOCATION:Winchester\, Winchester\, IL\, United States
END:VEVENT
BEGIN:VEVENT
DTSTART;TZID=America/Chicago:20200821T180000
DTEND;TZID=America/Chicago:20200821T220000
DTSTAMP:20260423T051621
CREATED:20200302T160033Z
LAST-MODIFIED:20200302T160033Z
UID:13302-1598032800-1598047200@www.illianapullers.com
SUMMARY:Mansfield\, IL
DESCRIPTION:N/A Tractors\, Pro Farm Tractors\, Outlaw Tractors\, Farm Stock Tractors
URL:https://www.illianapullers.com/event/mansfield-il-2/
LOCATION:Mansfield\, Mansfield\, IL\, United States
END:VEVENT
BEGIN:VEVENT
DTSTART;TZID=America/Chicago:20200828T180000
DTEND;TZID=America/Chicago:20200828T200000
DTSTAMP:20260423T051621
CREATED:20200302T155652Z
LAST-MODIFIED:20200619T172203Z
UID:13298-1598637600-1598644800@www.illianapullers.com
SUMMARY:Ridgefarm\, IL Canceled!
DESCRIPTION:Old Skool
URL:https://www.illianapullers.com/event/ridgefarm-il-3/
LOCATION:Ridgefarm\, Ridgefarm\, IL\, United States
END:VEVENT
BEGIN:VEVENT
DTSTART;TZID=America/Chicago:20200829T180000
DTEND;TZID=America/Chicago:20200829T220000
DTSTAMP:20260423T051621
CREATED:20200302T155809Z
LAST-MODIFIED:20200619T171908Z
UID:13300-1598724000-1598738400@www.illianapullers.com
SUMMARY:Ridgefarm\, IL Canceled!
DESCRIPTION:Alt. Stock 4 X 4 Trucks\, Pro Stock 4 X 4 Trucks\, N/A Tractors\, Pro Farm Tractors\, Outlaw Tractors\, Farm Stock Tractors\, Hot Pro Farm\, 8500 Limited Pro
URL:https://www.illianapullers.com/event/ridgefarm-il-4/
LOCATION:Ridgefarm\, Ridgefarm\, IL\, United States
END:VEVENT
END:VCALENDAR