BEGIN:VCALENDAR
VERSION:2.0
PRODID:-//Illiana Pullers Association - Tractor Pulling Association Illinois Indiana - ECPv6.1.3//NONSGML v1.0//EN
CALSCALE:GREGORIAN
METHOD:PUBLISH
X-ORIGINAL-URL:https://www.illianapullers.com
X-WR-CALDESC:Events for Illiana Pullers Association - Tractor Pulling Association Illinois Indiana
REFRESH-INTERVAL;VALUE=DURATION:PT1H
X-Robots-Tag:noindex
X-PUBLISHED-TTL:PT1H
BEGIN:VTIMEZONE
TZID:America/Chicago
BEGIN:DAYLIGHT
TZOFFSETFROM:-0600
TZOFFSETTO:-0500
TZNAME:CDT
DTSTART:20190310T080000
END:DAYLIGHT
BEGIN:STANDARD
TZOFFSETFROM:-0500
TZOFFSETTO:-0600
TZNAME:CST
DTSTART:20191103T070000
END:STANDARD
END:VTIMEZONE
BEGIN:VEVENT
DTSTART;TZID=America/Chicago:20190807T180000
DTEND;TZID=America/Chicago:20190807T220000
DTSTAMP:20260425T111408
CREATED:20190707T222837Z
LAST-MODIFIED:20190910T235742Z
UID:12641-1565200800-1565215200@www.illianapullers.com
SUMMARY:Georgetown\, IL
DESCRIPTION:Georgetown\, IL Results \nOutlaw \n1st Bill Miller Farina\, IL G-6 298.13\n2nd Bill Points Waverly\, IL Pointless 294.00\n3rd Derek Harms Flatville\, IL Ole Yeller 292.32\n4th Richard Crone Martinsville\, IN G-6 291.67\n5th Noah Campbell Urbana\, IL Student Loans 287.47\n6th Jim Rodgers Kingman\, IN G-6 276.87\n7th Dan Reeder Greenup\, IL MM 705 273.86\n8th Billy Edwards Danville\, IN MMG-6 268.11\n9th Ehren Lohrmann Lebanon\, IN Fort Knox 267.36\n10th Larry Fonner Danville\, IN MMG-6 264.34 \n\nFarm Stock \n1st Tom Petersak Westville\, IL Illegal Immigrant 321.03\n2nd Evan Suits Penfield\, IL IH 1466 315.88\n3rd Eddie Heidrick Danville\, IL Jenny’s Nightmare 304.63\n4th Charlie Myerscough Seymour\, IL IH 1066 303.18\n5th Jerry Cardinal Oaktown\, IL My Wife’s Diamond 301.61\n6th Josh Heidrick Danville\, IL Jenny’s Worse Nightmare 298.29\n7th Kurt Rademacher St. Joseph\, IL IH 1466 296.95\n8th Regan Bowman Stronghurst\, IL IH 1066 295.87\n9th Brad Clemmons Champaign\, IL Blind Squirrel 288.78\n10th Alan Edwards Monrovia\, IN Jus Playin 286.22\n11th Tyson Weckel Urbana\, IL IH 1086 282.38\n12th Jesse Bauer Cissna Park\, IL Bad Company 279.10 \nPro Stock Trucks \n1st Trace Thomas Greencastle\, IN Blue’s Back 330.58\n2nd Luke Thomas Greencastle\, IN Legion 330.28\n3rd Brad Chamberlain Brazil\, IN Barely Gettin By 328.77\n4th Nick Scott Sullivan\, IN Joint Custody 324.21\n5th Devin Wright Paris\, IL Sprout 323.85\n6th Greg Samet Hoopeston\, IL Copperhead 321.72\n7th Cauy Thomas Greencastle\, IN Rickochet 318.04\n8th Ryan Clark Greencastle\, IN Here We Go 317.32\n9th Nash Reinoehl Reelsville\, IN Ridiculous 315.91 \nAlt. Stock Trucks \n1st Dirk Nail Chrisman\, IL Pullin Nails 304.87\n2nd Brian Haga Sidell\, IL Cornfield Hustler 297.10\n3rd Jerry Martin Greencastle\, IN Martin Farms 292.68\n4th Jim Coddington Broadlands\, IL All Jacked Up 285.66\n5th Chris Doggett Georgetown\, IL 79 Ford 270.54\n6th Justin Muchow Paris\, IL Shameless (Broke) \nN/A \n1st Shane Diskin Rankin\, IL JD5010 317.03\n2nd Steve Spesard Ridgefarm\, IL Massey 2775 310.40\n3rd Brian Diskin Fithian\, Il If She Only Knew 309.42\n4th Wes Neef Champaign\, IL White 2-180 309.12\n5th Mike Spesard Ridgefarm\, IL JD1520 307.84\n6th Carl Warfel Ridgefarm\, IL Lucky Lady 307.71\n7th Blake Moffett Gays\, IL Cockshutt 2255 305.58\n8th Rich Eisenmann Cissna Park\, IL 4 Sale 301.25\n9th Leland Moffett Windsor\, IL Oliver 2255 297.70\n10th Leon Schluter Royal\, IL IH 966 296.49\n11th Doug Roberts Mansfield\, IL The Veteran 289.96\n12th Dennis Neef Mansfield\, IL White 2-180 284.35\n13th Wes Neef Champaign\, IL Oliver 2255 282.71\n14th Dean Lambert Georgetown\, IL White 2-180 282.32\n15th Gary Hixson Champaign\, IL IH 1066 263.35 \n8500 Limited Pro \n1st Esdon Bartling Nashville\, IL Possum 314.40\n2nd Kenny Kozuszek Nashville\, IL Ridin Dirty 307.77\n3rd Robert Fuhler Pocahontas\, IL IH 1206 303.08\n4th Jared Fender Chrisman\, IL Lethal Threat 301.67
URL:https://www.illianapullers.com/event/georgetown-il/
LOCATION:Georgetown\, Georgetown\, IL\, United States
END:VEVENT
END:VCALENDAR