BEGIN:VCALENDAR
VERSION:2.0
PRODID:-//Illiana Pullers Association - Tractor Pulling Association Illinois Indiana - ECPv6.1.3//NONSGML v1.0//EN
CALSCALE:GREGORIAN
METHOD:PUBLISH
X-WR-CALNAME:Illiana Pullers Association - Tractor Pulling Association Illinois Indiana
X-ORIGINAL-URL:https://www.illianapullers.com
X-WR-CALDESC:Events for Illiana Pullers Association - Tractor Pulling Association Illinois Indiana
REFRESH-INTERVAL;VALUE=DURATION:PT1H
X-Robots-Tag:noindex
X-PUBLISHED-TTL:PT1H
BEGIN:VTIMEZONE
TZID:America/Chicago
BEGIN:DAYLIGHT
TZOFFSETFROM:-0600
TZOFFSETTO:-0500
TZNAME:CDT
DTSTART:20190310T080000
END:DAYLIGHT
BEGIN:STANDARD
TZOFFSETFROM:-0500
TZOFFSETTO:-0600
TZNAME:CST
DTSTART:20191103T070000
END:STANDARD
END:VTIMEZONE
BEGIN:VEVENT
DTSTART;TZID=America/Chicago:20190810T160000
DTEND;TZID=America/Chicago:20190810T200000
DTSTAMP:20260425T084810
CREATED:20190707T224142Z
LAST-MODIFIED:20190910T235412Z
UID:12664-1565452800-1565467200@www.illianapullers.com
SUMMARY:Huntingburg\, IN
DESCRIPTION:Hot Pro Farm \n1st Brandon Gleen Owensburg\, KY Buck Wild 352.15\n2nd Jason Traylor Otwell\, IN Child’s Play 348.30\n3rd Kevin Stumler Floyd Knobs\, IN 2Xtreme 338.57\n4hJoe Knies Jasper\, IN Wild Cat Pulling 331.94
URL:https://www.illianapullers.com/event/huntingburg-in/
LOCATION:Huntingburg\, Huntingburg\, IN\, United States
END:VEVENT
END:VCALENDAR