BEGIN:VCALENDAR
VERSION:2.0
PRODID:-//Illiana Pullers Association - Tractor Pulling Association Illinois Indiana - ECPv6.1.3//NONSGML v1.0//EN
CALSCALE:GREGORIAN
METHOD:PUBLISH
X-WR-CALNAME:Illiana Pullers Association - Tractor Pulling Association Illinois Indiana
X-ORIGINAL-URL:https://www.illianapullers.com
X-WR-CALDESC:Events for Illiana Pullers Association - Tractor Pulling Association Illinois Indiana
REFRESH-INTERVAL;VALUE=DURATION:PT1H
X-Robots-Tag:noindex
X-PUBLISHED-TTL:PT1H
BEGIN:VTIMEZONE
TZID:America/Chicago
BEGIN:DAYLIGHT
TZOFFSETFROM:-0600
TZOFFSETTO:-0500
TZNAME:CDT
DTSTART:20190310T080000
END:DAYLIGHT
BEGIN:STANDARD
TZOFFSETFROM:-0500
TZOFFSETTO:-0600
TZNAME:CST
DTSTART:20191103T070000
END:STANDARD
END:VTIMEZONE
BEGIN:VEVENT
DTSTART;TZID=America/Chicago:20190817T180000
DTEND;TZID=America/Chicago:20190817T200000
DTSTAMP:20260425T100510
CREATED:20190707T223746Z
LAST-MODIFIED:20190910T235951Z
UID:12656-1566064800-1566072000@www.illianapullers.com
SUMMARY:Ridgefarm\, IL
DESCRIPTION:Ridgefarm\, IL Results \nFarm Stock \n1st Tom Petersak Westville\, IL Illegal Immigrant 366.72\n2nd Eddie Heidrick Danville\, IL Jenny’s Nightmare 350.39\n3rd Josh Heidrick Danville\, IL Jenny’s Worst Nightmare 348.01\n4th Charlie Myerscough Seymour\, IL IH 1066 342.54\n5th Jerry Cardinal Oaktown\, IN My Wife’s Diamond 335.10\n6th Brad Clemmons Champaign\, IL Blind Squirrel 328.12\n7th Alan Edwards Monrovia\, IN Jus Playin 3247.74\n8th Jesse Bauer Cissna Park\, IL Bad Company 311.79 \n\nPro Stock Trucks \n1st Shane Thomas Greencastle\, IN Blue’s Back 343.98\n2nd Greg Samet Hoopeston\, IL Copperhead 341.70\n3rd Chad Glaze Fillmore\, IN Runnin Wild 340.69\n4th Devin Wright Paris\, IL Sprout 339.32\n5th Nash Reinoehl Reelsville\, IN Ridiculous 336.88\n6th Ryan Clark Greencastle\, IN Here We Go 334.85\n7th Eric Meredith Herscher\, IL Fordbidden 330.87\n8th Steve Smith Gosport\, IN AW-OH 330.56\n9th Kimberly Criswell Logansport\, IN Rough & Ready 295.93 \nOutlaw \n1st Richard Crone Martinsville\, IN G-6 344.07\n2nd Cory Magsamen Champaign\, IL Size Matters 336.63\n3rd Scott Sage Flatville\, IL Ole Yeller 335.50\n4th Dan Reeder Greenup\, IL MM 705 319.02\n5th Bill Miller Farina\, IL MMG 6 309.85\n6th Ehren Lohrmann Lebanon\, IN Fort Knox 304.47\n7th Noah Campbell Urbana\, IL Student Loans 304.19\n8th Larry Fonner Danville\, IL MMG-6 302.31 \nAlt. Stock Trucks \n1st Dirk Nail Chrisman\, IL Pullin Nails 355.02\n2nd Brian Haga Sidell\, IL Cornfield Cruiser 334.72\n3rd Justin Muchow Paris\, IL Shameless 333.63\n4th Chris Doggett Georgetown\, IL 79 Ford 314.54\n5th Jim Coddington Broadlands\, IL All Jacked Up 311.89\n6th Jerry Martin Greencastle\, IN Martins Farms 310.29 \nN/A \n1st Steve Spesard Ridgefarm\, IL MF 2775 333.81\n2nd Wes Neef Champaign\, IL White 2-180 333.44\n3rd Rich Eisenmann Cissna Park\, IL For Sale 331.22\n4th Shane Diskin Rankin\, IL JD 5010 327.46\n5th Clayton Miles Royal\, IL IH 966 325.90\n6th Wes Neef Champaign\, IL Oliver 2255 324.49\n7th Dean Lambert Georgetown\, IL White 2-180 m323.02\n8th Mike Spesard Ridgefarm\, IL JD5020 322.55\n9th Doug Roberts Mansfield\, IL The Veteran 318.39\n10th Dennis Neef Mansfield\, IL White 2-180 314.23\n11th San Diskin Fithian\, IL IF She Only Knew 314.08\n12th Carl Warful Ridgefarm\, IL Lucky Lady (Broke) \n \n 
URL:https://www.illianapullers.com/event/ridgefarm-il-2/
LOCATION:Ridgefarm\, Ridgefarm\, IL\, United States
END:VEVENT
END:VCALENDAR