BEGIN:VCALENDAR
VERSION:2.0
PRODID:-//Illiana Pullers Association - Tractor Pulling Association Illinois Indiana - ECPv6.1.3//NONSGML v1.0//EN
CALSCALE:GREGORIAN
METHOD:PUBLISH
X-ORIGINAL-URL:https://www.illianapullers.com
X-WR-CALDESC:Events for Illiana Pullers Association - Tractor Pulling Association Illinois Indiana
REFRESH-INTERVAL;VALUE=DURATION:PT1H
X-Robots-Tag:noindex
X-PUBLISHED-TTL:PT1H
BEGIN:VTIMEZONE
TZID:America/Chicago
BEGIN:DAYLIGHT
TZOFFSETFROM:-0600
TZOFFSETTO:-0500
TZNAME:CDT
DTSTART:20190310T080000
END:DAYLIGHT
BEGIN:STANDARD
TZOFFSETFROM:-0500
TZOFFSETTO:-0600
TZNAME:CST
DTSTART:20191103T070000
END:STANDARD
END:VTIMEZONE
BEGIN:VEVENT
DTSTART;TZID=America/Chicago:20190831T110000
DTEND;TZID=America/Chicago:20190831T150000
DTSTAMP:20260425T100605
CREATED:20190707T224616Z
LAST-MODIFIED:20190920T024404Z
UID:12668-1567249200-1567263600@www.illianapullers.com
SUMMARY:Earl Park\, IN
DESCRIPTION:Earl Park\, IN Results \nPro Stock Trucks \n1st Trace Thomas Greencastle\, IN Blue’s Back 323.62\n2nd Devin Wright Paris\, IL Sprout 313.74\n3rd Cauy Thomas Greencastle\, IN Rickochet 310.03\n4th Eric Meredith Herscher\, IL Fordbidden 308.70\n5th Byron Nieman Crothersville\, IN Protype 305.32\n6th Greg Samet East Lynn\, IL Copperhead 298.92 \n \n \n\n\n 
URL:https://www.illianapullers.com/event/earl-park-in/
LOCATION:Earl Park\, Earl Park\, IN\, United States
END:VEVENT
END:VCALENDAR